BEGIN:VCALENDAR
VERSION:2.0
PRODID:-//jEvents 2.0 for Joomla//EN
CALSCALE:GREGORIAN
METHOD:PUBLISH
BEGIN:VEVENT
UID:633mavc844r2tep3i87r1i7eus@google.com
CATEGORIES:H3ABioNet Internal Meetings
CREATED:20190913T112554
SUMMARY:TE_Carpentry_Monthly Meeting
LOCATION:http://meeting.uct.ac.za/training_wp/
URL;VALUE=URI:https://www.h3abionet.org/component/jevents/7629/te-carpentry-monthly-meeti
 ng?Itemid=0&amp;tmpl=component
DESCRIPTION:
DTSTAMP:20260419T225755
DTSTART;TZID=Africa/Johannesburg:20241021T120000
DTEND;TZID=Africa/Johannesburg:20241021T130000
SEQUENCE:0
TRANSP:OPAQUE
END:VEVENT
END:VCALENDAR